BEGIN:VCALENDAR
VERSION:2.0
PRODID:icalendar-ruby
CALSCALE:GREGORIAN
BEGIN:VTIMEZONE
TZID:America/New_York
BEGIN:DAYLIGHT
DTSTART:20260308T030000
TZOFFSETFROM:-0500
TZOFFSETTO:-0400
RRULE:FREQ=YEARLY;BYDAY=2SU;BYMONTH=3
TZNAME:EDT
END:DAYLIGHT
BEGIN:STANDARD
DTSTART:20261101T010000
TZOFFSETFROM:-0400
TZOFFSETTO:-0500
RRULE:FREQ=YEARLY;BYDAY=1SU;BYMONTH=11
TZNAME:EST
END:STANDARD
END:VTIMEZONE
BEGIN:VEVENT
DTSTAMP:20260425T124403Z
UID:https://pcv.helpfulvillage.com/events/2311
DTSTART;TZID=America/New_York:20260527T103000
DTEND;TZID=America/New_York:20260527T113000
CLASS:PRIVATE
CREATED:20260422T081945
DESCRIPTION:
LAST-MODIFIED:20260422T081945
LOCATION:Potomac Library\, Glenolden Drive\, Potomac\, MD 20854
SUMMARY:Village event: Chair Yoga and Bollywood Dance
URL;VALUE=URI:https://pcv.helpfulvillage.com/events/2311
END:VEVENT
END:VCALENDAR
